BEGIN:VCALENDAR
PRODID:-//Date iCal//NONSGML Brightspot CMS//
VERSION:2.0
METHOD:PUBLISH
BEGIN:VEVENT
DTSTAMP:20260423T235757Z
SUMMARY:Rebroadcast of the Worldwide Devotional
UID:calendar.0000019d-ad7b-dc0e-ad9f-bfff28c60001field_event_date.0@calendar.byu.edu
CREATED:20260421T005808Z
LAST-MODIFIED:20260421T011255Z
LOCATION:Heber J. Grant Building Room 273/275
DTSTART;TZID=Pacific/Honolulu:20260503T190000
DTEND;TZID=Pacific/Honolulu:20260503T210000
ORGANIZER;CN="Kealii Haverly:MAILTO:haverlyk@polynesia.com:TEL:(808) 783-3016":
SUMMARY:Rebroadcast of the Worldwide Devotional
URL:https://wards.byuh.edu/activities-and-socials/rebroadcast-of-the-worldwide-devotional-2026-05-03
END:VEVENT
BEGIN:VTIMEZONE
TZID:Pacific/Honolulu
TZURL:http://tzurl.org/zoneinfo/Pacific/Honolulu
X-LIC-LOCATION:Pacific/Honolulu
BEGIN:STANDARD
TZOFFSETFROM:-103126
TZOFFSETTO:-1030
TZNAME:HST
DTSTART:18960113T120000
RDATE:18960113T120000
END:STANDARD
BEGIN:DAYLIGHT
TZOFFSETFROM:-1030
TZOFFSETTO:-0930
TZNAME:HDT
DTSTART:19330430T020000
RDATE:19330430T020000
END:DAYLIGHT
BEGIN:STANDARD
TZOFFSETFROM:-0930
TZOFFSETTO:-1030
TZNAME:HST
DTSTART:19330521T120000
RDATE:19330521T120000
RDATE:19450930T020000
END:STANDARD
BEGIN:DAYLIGHT
TZOFFSETFROM:-1030
TZOFFSETTO:-0930
TZNAME:HWT
DTSTART:19420209T020000
RDATE:19420209T020000
END:DAYLIGHT
BEGIN:DAYLIGHT
TZOFFSETFROM:-0930
TZOFFSETTO:-0930
TZNAME:HPT
DTSTART:19450814T133000
RDATE:19450814T133000
END:DAYLIGHT
BEGIN:STANDARD
TZOFFSETFROM:-1030
TZOFFSETTO:-1000
TZNAME:HST
DTSTART:19470608T020000
RDATE:19470608T020000
END:STANDARD
END:VTIMEZONE
END:VCALENDAR
